BEGIN:VCALENDAR
VERSION:2.0
PRODID:-//Danshuset i Helsingborg - ECPv4.9.3.1//NONSGML v1.0//EN
CALSCALE:GREGORIAN
METHOD:PUBLISH
X-WR-CALNAME:Danshuset i Helsingborg
X-ORIGINAL-URL:https://danshuset.com
X-WR-CALDESC:Händelser för Danshuset i Helsingborg
BEGIN:VEVENT
DTSTART;VALUE=DATE:20260510
DTEND;VALUE=DATE:20260511
DTSTAMP:20260420T141139
CREATED:20151209T004748Z
LAST-MODIFIED:20251208T020605Z
UID:3264-1778371200-1778457599@danshuset.com
SUMMARY:Avslutningsuppvisning
DESCRIPTION:AVSLUTNINGSUPPVISNING 10 MAJ \n\nUppvisningen genomförs kl 14-17 söndagen den 10 maj på Tryckeriet\, Vasatorpsvägen 1 B i Helsingborg. Alla elever\, stora och små\, nybörjare och övade\, är välkomna att delta. \nEXTRATRÄNING och GENREP\nBarn 7 år och yngre som dansar för Mats har genrep på Danshuset lörd 9 maj:\nMamma/pappa + barn 2 år                kl 09.00\nMamma/pappa + barn 3 år                kl 09.45\nBarn 4 år                                                 kl 10.30\nBarn 5 år                                                 kl 11.15\nBarn 6 år                                                 kl 12.00\nShowkids 7 år                                        kl 12.45\nVuxna pardansare                                kl 14.00 \nDe elever som dansar för Rebecca har genrep på Tryckeriet på förmiddagen den 11 maj. \nVälkommen\nMats\, Rebecca\, Mattias\, Olivia\, Linnea\, Maja och Maja \n\n
URL:https://danshuset.com/aktivitet/avslutningsuppvisning/
LOCATION:Tryckeriet Helsingborg\, Vasatorpsvägen 1 B\, Helsingborg\, Sverige
CATEGORIES:Barn,Barn & familj,Tonår & vuxna,Uppvisning och show
ORGANIZER;CN="Danshuset":MAILTO:info@danshuset.com
END:VEVENT
END:VCALENDAR