BEGIN:VCALENDAR
VERSION:2.0
PRODID:-//Danshuset i Helsingborg - ECPv4.9.3.1//NONSGML v1.0//EN
CALSCALE:GREGORIAN
METHOD:PUBLISH
X-WR-CALNAME:Danshuset i Helsingborg
X-ORIGINAL-URL:https://danshuset.com
X-WR-CALDESC:Händelser för Danshuset i Helsingborg
BEGIN:VEVENT
DTSTART;TZID=Europe/Stockholm:20260321T190000
DTEND;TZID=Europe/Stockholm:20260321T230000
DTSTAMP:20260424T143747
CREATED:20161216T233146Z
LAST-MODIFIED:20251208T021158Z
UID:3910-1774119600-1774134000@danshuset.com
SUMMARY:Fest för vuxna dansare
DESCRIPTION:Terminens fest för vuxna dansare. Inbjudan finns att hämta på Danshuset. Anmälan och betalning minst 14 dagar innan. \n
URL:https://danshuset.com/aktivitet/fest-for-vuxna-dansare-2/
LOCATION:Danshuset
CATEGORIES:Tonår & vuxna
END:VEVENT
END:VCALENDAR