BEGIN:VCALENDAR
VERSION:2.0
PRODID:-//Danshuset i Helsingborg - ECPv4.9.3.1//NONSGML v1.0//EN
CALSCALE:GREGORIAN
METHOD:PUBLISH
X-WR-CALNAME:Danshuset i Helsingborg
X-ORIGINAL-URL:https://danshuset.com
X-WR-CALDESC:Händelser för Danshuset i Helsingborg
BEGIN:VEVENT
DTSTART;VALUE=DATE:20251027
DTEND;VALUE=DATE:20251103
DTSTAMP:20260424T154809
CREATED:20160621T105439Z
LAST-MODIFIED:20250610T234633Z
UID:3608-1761523200-1762127999@danshuset.com
SUMMARY:Höstlov
DESCRIPTION:Danshusets kurser håller paus under höstlovet den 27/10 – 2/11. \n
URL:https://danshuset.com/aktivitet/hostlov/
CATEGORIES:Lovinformation
END:VEVENT
END:VCALENDAR