BEGIN:VCALENDAR
VERSION:2.0
PRODID:-//Danshuset i Helsingborg - ECPv4.9.3.1//NONSGML v1.0//EN
CALSCALE:GREGORIAN
METHOD:PUBLISH
X-WR-CALNAME:Danshuset i Helsingborg
X-ORIGINAL-URL:https://danshuset.com
X-WR-CALDESC:Händelser för Danshuset i Helsingborg
BEGIN:VEVENT
DTSTART;VALUE=DATE:20260427
DTEND;VALUE=DATE:20260504
DTSTAMP:20260420T171340
CREATED:20151209T010904Z
LAST-MODIFIED:20251208T012736Z
UID:3269-1777248000-1777852799@danshuset.com
SUMMARY:Kursslut 12 veckorskurser för barn
DESCRIPTION:Sista kursdagen för 12 veckorskurserna för barn 2-7 år samt showkids är den 27 april – 3 maj. \n
URL:https://danshuset.com/aktivitet/kursslut-for-nyborjare-och-barnkurser/
LOCATION:Danshuset
CATEGORIES:Barn,Lovinformation,Öppettider
END:VEVENT
END:VCALENDAR