BEGIN:VCALENDAR
VERSION:2.0
PRODID:-//Danshuset i Helsingborg - ECPv4.9.3.1//NONSGML v1.0//EN
CALSCALE:GREGORIAN
METHOD:PUBLISH
X-WR-CALNAME:Danshuset i Helsingborg
X-ORIGINAL-URL:https://danshuset.com
X-WR-CALDESC:Händelser för Danshuset i Helsingborg
BEGIN:VEVENT
DTSTART;VALUE=DATE:20260503
DTEND;VALUE=DATE:20260509
DTSTAMP:20260424T125754
CREATED:20151209T011040Z
LAST-MODIFIED:20251208T012610Z
UID:3270-1777766400-1778284799@danshuset.com
SUMMARY:Kursslut 14 veckorskurser
DESCRIPTION:Sista kursdagen för terminens nybörjar och fortsättningskurser på 14 veckor är den 3 – 8 maj. \n
URL:https://danshuset.com/aktivitet/kursslut-fortsattningskurser/
LOCATION:Danshuset
CATEGORIES:Lovinformation,Öppettider
END:VEVENT
END:VCALENDAR