BEGIN:VCALENDAR
VERSION:2.0
PRODID:-//Danshuset i Helsingborg - ECPv4.9.3.1//NONSGML v1.0//EN
CALSCALE:GREGORIAN
METHOD:PUBLISH
X-WR-CALNAME:Danshuset i Helsingborg
X-ORIGINAL-URL:https://danshuset.com
X-WR-CALDESC:Händelser för Danshuset i Helsingborg
BEGIN:VEVENT
DTSTART;VALUE=DATE:20260118
DTEND;VALUE=DATE:20260124
DTSTAMP:20260424T153830
CREATED:20151208T234535Z
LAST-MODIFIED:20251208T015519Z
UID:3250-1768694400-1769212799@danshuset.com
SUMMARY:Öppet Hus
DESCRIPTION:Hela första undervisningsveckan erbjuder vi gratis provlektion på våra nybörjarkurser för ungdomar 8 år- tonår och vuxna. Exakt vilka lektioner det gäller finns specificerat här på Danshusets hemsida under knappen ”Vi erbjuder” – ”Öppet Hus”. \n
URL:https://danshuset.com/aktivitet/oppet-hus/
LOCATION:Danshuset
CATEGORIES:Barn,Barn & familj,Öppettider,Tonår & vuxna
END:VEVENT
END:VCALENDAR