BEGIN:VCALENDAR
VERSION:2.0
PRODID:-//Danshuset i Helsingborg - ECPv4.9.3.1//NONSGML v1.0//EN
CALSCALE:GREGORIAN
METHOD:PUBLISH
X-WR-CALNAME:Danshuset i Helsingborg
X-ORIGINAL-URL:https://danshuset.com
X-WR-CALDESC:Händelser för Danshuset i Helsingborg
BEGIN:VEVENT
DTSTART;TZID=Europe/Stockholm:20260112T160000
DTEND;TZID=Europe/Stockholm:20260115T180000
DTSTAMP:20260424T154434
CREATED:20160621T095119Z
LAST-MODIFIED:20251216T215544Z
UID:3597-1768233600-1768500000@danshuset.com
SUMMARY:Receptionen öppen 16-18
DESCRIPTION:Receptionen öppen kl 16-18 måndag 12 januari – torsdag 15 januari för information och betalning.\nOnsdagen den 14 januari stänger receptionen kl 17. \nVälkommen! \n
URL:https://danshuset.com/aktivitet/receptionen-oppen-16-18-3/
LOCATION:Danshuset
CATEGORIES:Öppettider
END:VEVENT
END:VCALENDAR