BEGIN:VCALENDAR
VERSION:2.0
PRODID:-//Danshuset i Helsingborg - ECPv4.9.3.1//NONSGML v1.0//EN
CALSCALE:GREGORIAN
METHOD:PUBLISH
X-WR-CALNAME:Danshuset i Helsingborg
X-ORIGINAL-URL:https://danshuset.com
X-WR-CALDESC:Händelser för Danshuset i Helsingborg
BEGIN:VEVENT
DTSTART;TZID=Europe/Stockholm:20260131T140000
DTEND;TZID=Europe/Stockholm:20260131T160000
DTSTAMP:20260424T142630
CREATED:20201129T193002Z
LAST-MODIFIED:20251208T014855Z
UID:5749-1769868000-1769875200@danshuset.com
SUMMARY:Träningsdans
DESCRIPTION:Kom och träna på dina danser\, fika och umgås med de andra trevliga Danshusetdansarna! Öppet för Danshusets elever och medföljande sällskap. Entré 50 kr betalas kontant vid entrén. Föranmälan obligatorisk. \nDet blir två tillfällen under våren 2026:\nLördag 31 januari kl 14-16\nLördag 25 april kl 14-16 \nVälkommen! \n
URL:https://danshuset.com/aktivitet/traningsdans/
CATEGORIES:Öppettider,Tonår & vuxna,Workshop
END:VEVENT
END:VCALENDAR